BEGIN:VCALENDAR
VERSION:2.0
PRODID:-//SVP Kanton Appenzell-Innerrhoden //NONSGML Events //EN
CALSCALE:GREGORIAN
X-WR-CALNAME:SVP Kanton Appenzell-Innerrhoden
BEGIN:VEVENT
CREATED:20221204T170804Z
UID:11375
DTEND:20231111T000000
DTSTART:20231111T000000
DTSTAMP:20260420T130521Z
LOCATION:
DESCRIPTION:
SUMMARY:Delegiertenversammlung
ORGANIZER:
URL;VALUE=URI:https://www.svp-ai.ch/aktuell/termine/delegiertenversammlung-5/
TRANSP:OPAQUE
END:VEVENT
END:VCALENDAR
